BEGIN:VCALENDAR
VERSION:2.0
PRODID:icalendar-ruby
CALSCALE:GREGORIAN
METHOD:PUBLISH
BEGIN:VEVENT
DTSTAMP:20260425T220320Z
UID:5-1309750@greaterworkswnc.org
DTSTART:20250817T150000Z
DTEND:20250817T160000Z
CLASS:PUBLIC
CREATED:20260425T155836
DESCRIPTION:Sunday Worship
LAST-MODIFIED:20260425T155836
LOCATION:
SUMMARY:Sunday Worship
URL;VALUE=URI:https://www.greaterworkswnc.org/events/sunday-worship/2025-08
 -17
END:VEVENT
END:VCALENDAR
