BEGIN:VCALENDAR
VERSION:2.0
PRODID:icalendar-ruby
CALSCALE:GREGORIAN
METHOD:PUBLISH
BEGIN:VEVENT
DTSTAMP:20260425T204053Z
UID:5-1309749@greaterworkswnc.org
DTSTART:20250810T150000Z
DTEND:20250810T160000Z
CLASS:PUBLIC
CREATED:20260425T155836
DESCRIPTION:Sunday Worship
LAST-MODIFIED:20260425T155836
LOCATION:
SUMMARY:Sunday Worship
URL;VALUE=URI:https://www.greaterworkswnc.org/events/sunday-worship/2025-08
 -10
END:VEVENT
END:VCALENDAR
