BEGIN:VCALENDAR
VERSION:2.0
PRODID:icalendar-ruby
CALSCALE:GREGORIAN
METHOD:PUBLISH
BEGIN:VEVENT
DTSTAMP:20260423T210121Z
UID:5-1303429@greaterworkswnc.org
DTSTART:20250615T150000Z
DTEND:20250615T160000Z
CLASS:PUBLIC
CREATED:20260423T165021
DESCRIPTION:Sunday Worship
LAST-MODIFIED:20260423T165021
LOCATION:
SUMMARY:Sunday Worship
URL;VALUE=URI:https://www.greaterworkswnc.org/events/sunday-worship/2025-06
 -15
END:VEVENT
END:VCALENDAR
