BEGIN:VCALENDAR
VERSION:2.0
PRODID:icalendar-ruby
CALSCALE:GREGORIAN
METHOD:PUBLISH
BEGIN:VEVENT
DTSTAMP:20260423T193110Z
UID:5-1302902@greaterworkswnc.org
DTSTART:20250608T150000Z
DTEND:20250608T160000Z
CLASS:PUBLIC
CREATED:20260423T135437
DESCRIPTION:Sunday Worship
LAST-MODIFIED:20260423T135437
LOCATION:
SUMMARY:Sunday Worship
URL;VALUE=URI:https://www.greaterworkswnc.org/events/sunday-worship/2025-06
 -08
END:VEVENT
END:VCALENDAR
