BEGIN:VCALENDAR
VERSION:2.0
PRODID:icalendar-ruby
CALSCALE:GREGORIAN
METHOD:PUBLISH
BEGIN:VEVENT
DTSTAMP:20260423T163131Z
UID:5-1302374@greaterworkswnc.org
DTSTART:20250525T150000Z
DTEND:20250525T160000Z
CLASS:PUBLIC
CREATED:20260423T105859
DESCRIPTION:Sunday Worship
LAST-MODIFIED:20260423T105859
LOCATION:
SUMMARY:Sunday Worship
URL;VALUE=URI:https://www.greaterworkswnc.org/events/sunday-worship/2025-05
 -25
END:VEVENT
END:VCALENDAR
