BEGIN:VCALENDAR
VERSION:2.0
PRODID:icalendar-ruby
CALSCALE:GREGORIAN
METHOD:PUBLISH
BEGIN:VEVENT
DTSTAMP:20260423T060407Z
UID:5-1301316@greaterworkswnc.org
DTSTART:20250413T150000Z
DTEND:20250413T160000Z
CLASS:PUBLIC
CREATED:20260422T223552
DESCRIPTION:Sunday Worship
LAST-MODIFIED:20260422T223552
LOCATION:
SUMMARY:Sunday Worship
URL;VALUE=URI:https://www.greaterworkswnc.org/events/sunday-worship/2025-04
 -13
END:VEVENT
END:VCALENDAR
