BEGIN:VCALENDAR
VERSION:2.0
PRODID:icalendar-ruby
CALSCALE:GREGORIAN
METHOD:PUBLISH
BEGIN:VEVENT
DTSTAMP:20260423T021720Z
UID:5-1300787@greaterworkswnc.org
DTSTART:20250323T150000Z
DTEND:20250323T160000Z
CLASS:PUBLIC
CREATED:20260422T194216
DESCRIPTION:Sunday Worship
LAST-MODIFIED:20260422T194216
LOCATION:
SUMMARY:Sunday Worship
URL;VALUE=URI:https://www.greaterworkswnc.org/events/sunday-worship/2025-03
 -23
END:VEVENT
END:VCALENDAR
