BEGIN:VCALENDAR
VERSION:2.0
PRODID:icalendar-ruby
CALSCALE:GREGORIAN
METHOD:PUBLISH
BEGIN:VEVENT
DTSTAMP:20260423T005310Z
UID:5-1300786@greaterworkswnc.org
DTSTART:20250316T150000Z
DTEND:20250316T160000Z
CLASS:PUBLIC
CREATED:20260422T194216
DESCRIPTION:Sunday Worship
LAST-MODIFIED:20260422T194216
LOCATION:
SUMMARY:Sunday Worship
URL;VALUE=URI:https://www.greaterworkswnc.org/events/sunday-worship/2025-03
 -16
END:VEVENT
END:VCALENDAR
