BEGIN:VCALENDAR
VERSION:2.0
PRODID:icalendar-ruby
CALSCALE:GREGORIAN
METHOD:PUBLISH
BEGIN:VEVENT
DTSTAMP:20260422T232703Z
UID:5-1300259@greaterworkswnc.org
DTSTART:20250309T150000Z
DTEND:20250309T160000Z
CLASS:PUBLIC
CREATED:20260422T165011
DESCRIPTION:Sunday Worship
LAST-MODIFIED:20260422T165011
LOCATION:
SUMMARY:Sunday Worship
URL;VALUE=URI:https://www.greaterworkswnc.org/events/sunday-worship/2025-03
 -09
END:VEVENT
END:VCALENDAR
