BEGIN:VCALENDAR
VERSION:2.0
PRODID:icalendar-ruby
CALSCALE:GREGORIAN
METHOD:PUBLISH
BEGIN:VEVENT
DTSTAMP:20260422T204058Z
UID:5-1299731@greaterworkswnc.org
DTSTART:20250223T160000Z
DTEND:20250223T170000Z
CLASS:PUBLIC
CREATED:20260422T135506
DESCRIPTION:Sunday Worship
LAST-MODIFIED:20260422T135506
LOCATION:
SUMMARY:Sunday Worship
URL;VALUE=URI:https://www.greaterworkswnc.org/events/sunday-worship/2025-02
 -23
END:VEVENT
END:VCALENDAR
