BEGIN:VCALENDAR
VERSION:2.0
PRODID:icalendar-ruby
CALSCALE:GREGORIAN
METHOD:PUBLISH
BEGIN:VEVENT
DTSTAMP:20260422T192158Z
UID:5-1299730@greaterworkswnc.org
DTSTART:20250216T160000Z
DTEND:20250216T170000Z
CLASS:PUBLIC
CREATED:20260422T135506
DESCRIPTION:Sunday Worship
LAST-MODIFIED:20260422T135506
LOCATION:
SUMMARY:Sunday Worship
URL;VALUE=URI:https://www.greaterworkswnc.org/events/sunday-worship/2025-02
 -16
END:VEVENT
END:VCALENDAR
