BEGIN:VCALENDAR
VERSION:2.0
PRODID:icalendar-ruby
CALSCALE:GREGORIAN
METHOD:PUBLISH
BEGIN:VEVENT
DTSTAMP:20260422T175117Z
UID:5-1299203@greaterworkswnc.org
DTSTART:20250209T160000Z
DTEND:20250209T170000Z
CLASS:PUBLIC
CREATED:20260422T105953
DESCRIPTION:Sunday Worship
LAST-MODIFIED:20260422T105953
LOCATION:
SUMMARY:Sunday Worship
URL;VALUE=URI:https://www.greaterworkswnc.org/events/sunday-worship/2025-02
 -09
END:VEVENT
END:VCALENDAR
