BEGIN:VCALENDAR
VERSION:2.0
PRODID:icalendar-ruby
CALSCALE:GREGORIAN
METHOD:PUBLISH
BEGIN:VEVENT
DTSTAMP:20260422T162750Z
UID:5-1299202@greaterworkswnc.org
DTSTART:20250202T160000Z
DTEND:20250202T170000Z
CLASS:PUBLIC
CREATED:20260422T105953
DESCRIPTION:Sunday Worship
LAST-MODIFIED:20260422T105953
LOCATION:
SUMMARY:Sunday Worship
URL;VALUE=URI:https://www.greaterworkswnc.org/events/sunday-worship/2025-02
 -02
END:VEVENT
END:VCALENDAR
