BEGIN:VCALENDAR
VERSION:2.0
PRODID:icalendar-ruby
CALSCALE:GREGORIAN
METHOD:PUBLISH
BEGIN:VEVENT
DTSTAMP:20260422T133138Z
UID:5-1298674@greaterworkswnc.org
DTSTART:20250119T160000Z
DTEND:20250119T170000Z
CLASS:PUBLIC
CREATED:20260422T080459
DESCRIPTION:Sunday Worship
LAST-MODIFIED:20260422T080459
LOCATION:
SUMMARY:Sunday Worship
URL;VALUE=URI:https://www.greaterworkswnc.org/events/sunday-worship/2025-01
 -19
END:VEVENT
END:VCALENDAR
