BEGIN:VCALENDAR
VERSION:2.0
PRODID:icalendar-ruby
CALSCALE:GREGORIAN
METHOD:PUBLISH
BEGIN:VEVENT
DTSTAMP:20260422T102013Z
UID:5-1298146@greaterworkswnc.org
DTSTART:20250105T160000Z
DTEND:20250105T170000Z
CLASS:PUBLIC
CREATED:20260421T210009
DESCRIPTION:Sunday Worship
LAST-MODIFIED:20260421T210009
LOCATION:
SUMMARY:Sunday Worship
URL;VALUE=URI:https://www.greaterworkswnc.org/events/sunday-worship/2025-01
 -05
END:VEVENT
END:VCALENDAR
